BEGIN:VCALENDAR
VERSION:2.0
PRODID:-//NCMM Southport - ECPv6.15.14//NONSGML v1.0//EN
CALSCALE:GREGORIAN
METHOD:PUBLISH
X-WR-CALNAME:NCMM Southport
X-ORIGINAL-URL:https://ncmaritimemuseumsouthport.com
X-WR-CALDESC:Events for NCMM Southport
REFRESH-INTERVAL;VALUE=DURATION:PT1H
X-Robots-Tag:noindex
X-PUBLISHED-TTL:PT1H
BEGIN:VTIMEZONE
TZID:America/New_York
BEGIN:DAYLIGHT
TZOFFSETFROM:-0500
TZOFFSETTO:-0400
TZNAME:EDT
DTSTART:20250309T070000
END:DAYLIGHT
BEGIN:STANDARD
TZOFFSETFROM:-0400
TZOFFSETTO:-0500
TZNAME:EST
DTSTART:20251102T060000
END:STANDARD
BEGIN:DAYLIGHT
TZOFFSETFROM:-0500
TZOFFSETTO:-0400
TZNAME:EDT
DTSTART:20260308T070000
END:DAYLIGHT
BEGIN:STANDARD
TZOFFSETFROM:-0400
TZOFFSETTO:-0500
TZNAME:EST
DTSTART:20261101T060000
END:STANDARD
BEGIN:DAYLIGHT
TZOFFSETFROM:-0500
TZOFFSETTO:-0400
TZNAME:EDT
DTSTART:20270314T070000
END:DAYLIGHT
BEGIN:STANDARD
TZOFFSETFROM:-0400
TZOFFSETTO:-0500
TZNAME:EST
DTSTART:20271107T060000
END:STANDARD
END:VTIMEZONE
BEGIN:VEVENT
DTSTART;TZID=America/New_York:20260527T110000
DTEND;TZID=America/New_York:20260527T150000
DTSTAMP:20260420T040932
CREATED:20260331T202156Z
LAST-MODIFIED:20260331T202615Z
UID:11505-1779879600-1779894000@ncmaritimemuseumsouthport.com
SUMMARY:ANCHORS AWEIGH: School of the Sailor
DESCRIPTION:Get your hands on history! Join us to gear up for adventures on the high seas and see if you have the skills to become an 18th century sailor. \nThe Anchors Aweigh series is geared toward families and folks of all ages\, and each hands-on activity will focus on a specific theme in Lower Cape Fear and North Carolina history. Anchors Aweigh is free\, but donations are accepted and appreciated to support future educational programming at the museum.
URL:https://ncmaritimemuseumsouthport.com/event/anchors-aweigh/
LOCATION:NC Maritime Museum at Southport\, 204 E. Moore St.\, Southport\, NC\, 28461\, United States
CATEGORIES:Anchors Aweigh
ATTACH;FMTTYPE=image/jpeg:https://ncmaritimemuseumsouthport.com/wp-content/uploads/2020/03/3-scaled.jpg
END:VEVENT
BEGIN:VEVENT
DTSTART;TZID=America/New_York:20260523T100000
DTEND;TZID=America/New_York:20260523T150000
DTSTAMP:20260420T040932
CREATED:20240118T153216Z
LAST-MODIFIED:20260331T193637Z
UID:11481-1779530400-1779548400@ncmaritimemuseumsouthport.com
SUMMARY:SKIPPER'S CREW: Petals of Honor
DESCRIPTION:Kids will craft bright red poppies to honor Memorial Day. These meaningful flowers are a symbol of remembrance\, giving children a creative way to show respect and learn about the heroes who have served our country. \nDesigned for all ages\, but specifically geared toward younger patrons\, Skipper’s Crew features hands-on activities and crafts focusing on combining art\, history and science. \nLights will be dimmed and interactives muted during the first two hours to provide a calmer environment for those with sensory sensitivities. Programs run from 10 a.m. to 3 p.m. \nThe program is free\, but donations are accepted and appreciated.
URL:https://ncmaritimemuseumsouthport.com/event/skippers-crew-2026-05-23/
LOCATION:NC Maritime Museum at Southport\, 204 E. Moore St.\, Southport\, NC\, 28461\, United States
CATEGORIES:Skipper's Crew
ATTACH;FMTTYPE=image/png:https://ncmaritimemuseumsouthport.com/wp-content/uploads/2024/01/Untitled-design-3.png
END:VEVENT
BEGIN:VEVENT
DTSTART;TZID=America/New_York:20260509T100000
DTEND;TZID=America/New_York:20260509T150000
DTSTAMP:20260420T040932
CREATED:20240118T153216Z
LAST-MODIFIED:20260331T193632Z
UID:11480-1778320800-1778338800@ncmaritimemuseumsouthport.com
SUMMARY:SKIPPER'S CREW: Love You Bunches
DESCRIPTION:We are crafting blooming bouquets just in time for Mother’s Day using colorful cupcake liners. These handmade forever flowers are a fun and heartfelt way to say\, “I love you bunches!” to your special someone. \nDesigned for all ages\, but specifically geared toward younger patrons\, Skipper’s Crew features hands-on activities and crafts focusing on combining art\, history and science. \nLights will be dimmed and interactives muted during the first two hours to provide a calmer environment for those with sensory sensitivities. Programs run from 10 a.m. to 3 p.m. \nThe program is free\, but donations are accepted and appreciated.
URL:https://ncmaritimemuseumsouthport.com/event/skippers-crew-2026-05-09/
LOCATION:NC Maritime Museum at Southport\, 204 E. Moore St.\, Southport\, NC\, 28461\, United States
CATEGORIES:Skipper's Crew
ATTACH;FMTTYPE=image/png:https://ncmaritimemuseumsouthport.com/wp-content/uploads/2024/01/Untitled-design-3.png
END:VEVENT
BEGIN:VEVENT
DTSTART;TZID=America/New_York:20260502T100000
DTEND;TZID=America/New_York:20260502T150000
DTSTAMP:20260420T040932
CREATED:20240118T153216Z
LAST-MODIFIED:20260331T193158Z
UID:11479-1777716000-1777734000@ncmaritimemuseumsouthport.com
SUMMARY:SKIPPER'S CREW: Sunlit Sea Friends
DESCRIPTION:Brighten up your windows with colorful ocean themed suncatchers. We will use different kinds of paper to create shimmering sea creatures that come to life in the sunlight. A fun and creative way to bring a little under-the-sea magic indoors! \nDesigned for all ages\, but specifically geared toward younger patrons\, Skipper’s Crew features hands-on activities and crafts focusing on combining art\, history and science. \nLights will be dimmed and interactives muted during the first two hours to provide a calmer environment for those with sensory sensitivities. Programs run from 10 a.m. to 3 p.m. \nThe program is free\, but donations are accepted and appreciated.
URL:https://ncmaritimemuseumsouthport.com/event/skippers-crew-2026-05-02/
LOCATION:NC Maritime Museum at Southport\, 204 E. Moore St.\, Southport\, NC\, 28461\, United States
CATEGORIES:Skipper's Crew
ATTACH;FMTTYPE=image/png:https://ncmaritimemuseumsouthport.com/wp-content/uploads/2024/01/Untitled-design-3.png
END:VEVENT
BEGIN:VEVENT
DTSTART;TZID=America/New_York:20260418T100000
DTEND;TZID=America/New_York:20260418T150000
DTSTAMP:20260420T040932
CREATED:20240118T153216Z
LAST-MODIFIED:20260331T193107Z
UID:11478-1776506400-1776524400@ncmaritimemuseumsouthport.com
SUMMARY:SKIPPER'S CREW: Little Helping Hands
DESCRIPTION:Celebrate Earth Day with a craft that shows how even the smallest hands can help our planet! Kids will use paint and their handprints to create an Earth-inspired masterpiece\, reminding us all that caring for the world starts with just one hand. \nDesigned for all ages\, but specifically geared toward younger patrons\, Skipper’s Crew features hands-on activities and crafts focusing on combining art\, history and science. \nLights will be dimmed and interactives muted during the first two hours to provide a calmer environment for those with sensory sensitivities. Programs run from 10 a.m. to 3 p.m. \nThe program is free\, but donations are accepted and appreciated.
URL:https://ncmaritimemuseumsouthport.com/event/skippers-crew-2026/
LOCATION:NC Maritime Museum at Southport\, 204 E. Moore St.\, Southport\, NC\, 28461\, United States
CATEGORIES:Skipper's Crew
ATTACH;FMTTYPE=image/png:https://ncmaritimemuseumsouthport.com/wp-content/uploads/2024/01/Untitled-design-3.png
END:VEVENT
BEGIN:VEVENT
DTSTART;TZID=America/New_York:20260403T100000
DTEND;TZID=America/New_York:20260403T150000
DTSTAMP:20260420T040932
CREATED:20240118T153216Z
LAST-MODIFIED:20260331T193611Z
UID:11461-1775210400-1775228400@ncmaritimemuseumsouthport.com
SUMMARY:SKIPPER'S CREW: Budding Branches
DESCRIPTION:Little artists will welcome the season with this sweet springtime craft. Using paint and their own fingerprints\, kids will add budding leaves to paper branches\, creating a colorful keepsake that celebrates new growth and creativity. \nDesigned for all ages\, but specifically geared toward younger patrons\, Skipper’s Crew features hands-on activities and crafts focusing on combining art\, history and science. \nLights will be dimmed and interactives muted during the first two hours to provide a calmer environment for those with sensory sensitivities. Programs run from 10 a.m. to 3 p.m. \nThe program is free\, but donations are accepted and appreciated.
URL:https://ncmaritimemuseumsouthport.com/event/skippers-crew-2026-03-14/
LOCATION:NC Maritime Museum at Southport\, 204 E. Moore St.\, Southport\, NC\, 28461\, United States
CATEGORIES:Skipper's Crew
ATTACH;FMTTYPE=image/png:https://ncmaritimemuseumsouthport.com/wp-content/uploads/2024/01/Untitled-design-3.png
END:VEVENT
BEGIN:VEVENT
DTSTART;TZID=America/New_York:20260328T110000
DTEND;TZID=America/New_York:20260328T150000
DTSTAMP:20260420T040932
CREATED:20230110T201632Z
LAST-MODIFIED:20260116T215519Z
UID:11293-1774695600-1774710000@ncmaritimemuseumsouthport.com
SUMMARY:DEEP DIVE INTO HISTORY: Dyeing for History
DESCRIPTION:The free program is designed to give visitors a deeper understanding of our shared past through costumed interpretation. Each Deep Dive will delve into a specific theme in Lower Cape Fear and maritime history. Programs run from 10 a.m. to 3 p.m.\, and visitors can drop-in at any time during the program to interact with the presenter one-on-one. Registration is not required for the program\, which is designed for all ages.
URL:https://ncmaritimemuseumsouthport.com/event/deep-dive/
LOCATION:NC Maritime Museum at Southport\, 204 E. Moore St.\, Southport\, NC\, 28461\, United States
CATEGORIES:deep dive
ATTACH;FMTTYPE=image/jpeg:https://ncmaritimemuseumsouthport.com/wp-content/uploads/2023/01/Deep-Dive.jpg
END:VEVENT
BEGIN:VEVENT
DTSTART;TZID=America/New_York:20260307T100000
DTEND;TZID=America/New_York:20260307T150000
DTSTAMP:20260420T040932
CREATED:20240118T153216Z
LAST-MODIFIED:20260116T215015Z
UID:11460-1772877600-1772895600@ncmaritimemuseumsouthport.com
SUMMARY:SKIPPER'S CREW: Peek-a-Boo Leaves
DESCRIPTION:Designed for all ages\, but specifically geared toward younger patrons\, Skipper’s Crew features hands-on activities and crafts focusing on combining arts and history. \nLights will be dimmed and interactives muted during the first two hours to provide a calmer environment for those with sensory sensitivities. Programs run from 10 a.m. to 3 p.m. \nThe program is free\, but donations are accepted and appreciated.
URL:https://ncmaritimemuseumsouthport.com/event/skippers-crew-2026-03-07/
LOCATION:NC Maritime Museum at Southport\, 204 E. Moore St.\, Southport\, NC\, 28461\, United States
CATEGORIES:Skipper's Crew
ATTACH;FMTTYPE=image/png:https://ncmaritimemuseumsouthport.com/wp-content/uploads/2024/01/Untitled-design-3.png
END:VEVENT
BEGIN:VEVENT
DTSTART;TZID=America/New_York:20260214T100000
DTEND;TZID=America/New_York:20260214T150000
DTSTAMP:20260420T040932
CREATED:20240118T153216Z
LAST-MODIFIED:20260116T215033Z
UID:11459-1771063200-1771081200@ncmaritimemuseumsouthport.com
SUMMARY:SKIPPER'S CREW: Hearts and Crafts Day
DESCRIPTION:Designed for all ages\, but specifically geared toward younger patrons\, Skipper’s Crew features hands-on activities and crafts focusing on combining arts and history. \nLights will be dimmed and interactives muted during the first two hours to provide a calmer environment for those with sensory sensitivities. Programs run from 10 a.m. to 3 p.m. \nThe program is free\, but donations are accepted and appreciated.
URL:https://ncmaritimemuseumsouthport.com/event/skippers-crew-2026-02-14/
LOCATION:NC Maritime Museum at Southport\, 204 E. Moore St.\, Southport\, NC\, 28461\, United States
CATEGORIES:Skipper's Crew
ATTACH;FMTTYPE=image/png:https://ncmaritimemuseumsouthport.com/wp-content/uploads/2024/01/Untitled-design-3.png
END:VEVENT
BEGIN:VEVENT
DTSTART;TZID=America/New_York:20260207T100000
DTEND;TZID=America/New_York:20260207T150000
DTSTAMP:20260420T040932
CREATED:20240118T153216Z
LAST-MODIFIED:20260116T215147Z
UID:11257-1770458400-1770476400@ncmaritimemuseumsouthport.com
SUMMARY:SKIPPER'S CREW: Silly Stingrays
DESCRIPTION:Designed for all ages\, but specifically geared toward younger patrons\, Skipper’s Crew features hands-on activities and crafts focusing on combining arts and history. \nLights will be dimmed and interactives muted during the first two hours to provide a calmer environment for those with sensory sensitivities. Programs run from 10 a.m. to 3 p.m. \nThe program is free\, but donations are accepted and appreciated.
URL:https://ncmaritimemuseumsouthport.com/event/skippers-crew-2026-2-7/
LOCATION:NC Maritime Museum at Southport\, 204 E. Moore St.\, Southport\, NC\, 28461\, United States
CATEGORIES:Skipper's Crew
ATTACH;FMTTYPE=image/png:https://ncmaritimemuseumsouthport.com/wp-content/uploads/2024/01/Untitled-design-3.png
END:VEVENT
END:VCALENDAR